BEGIN:VCALENDAR
VERSION:2.0
PRODID:-//wp-events-plugin.com//7.1.7//EN
TZID:Europe/Paris
X-WR-TIMEZONE:Europe/Paris
BEGIN:VEVENT
UID:0-517@ch-bretagne-atlantique.fr
DTSTART;TZID=Europe/Paris:20260428T000000
DTEND;TZID=Europe/Paris:20260428T000000
DTSTAMP:20260305T130954Z
URL:https://www.ch-bretagne-atlantique.fr/evenements/spectacle-conversatio
 n-tactile/
SUMMARY:Spectacle "Conversation tactile"
DESCRIPTION:La Plateforme d’Accompagnement et de Répit pour les aidants 
 du Centre Hospitalier Bretagne Atlantique vous invite à découvrir le spe
 ctacle "Conversation tactile"\, créé et interprété par la compagnie Le
 s Petites Miettes.\n📅 Mardi 28 avril 2026📍 Espace Athéna – Auray\
 nCe projet artistique\, initié en 2022\, est né d’une collaboration en
 tre la Ville d’Auray\, la compagnie Les Petites Miettes\, les profession
 nels\, les résidents\, les bénévoles et les familles des EHPAD Kériole
 t\, Kerléano et Pratel-Izel.\nLe spectacle met en scène une équipe un p
 eu spéciale de 3 soignants\, qui ont le super pouvoir de tout remplir de 
 fantaisie\, de poésie et de grande tendresse dans leurs pratiques de tous
  les jours. Un regard artistique et humain sur les relations de soin et d
 ’accompagnement.\n🕒 Deux représentations :• 14h• 20h\n👉 Évé
 nement ouvert à tous\n📝 Entrée gratuite – sur inscription en cliqua
 nt ICI  ou en scannant le QR Code présent sur l'affiche.
ATTACH;FMTTYPE=image/jpeg:https://www.ch-bretagne-atlantique.fr/app/upload
 s/1/2026/03/260428_BandeauEventbrite_PFR.jpg
LOCATION:1 place Golheres 56400 Auray\, France
X-APPLE-STRUCTURED-LOCATION;VALUE=URI;X-ADDRESS=1 place Golheres 56400 Aura
 y\, France;X-APPLE-RADIUS=100;X-TITLE=:geo:0,0
END:VEVENT
BEGIN:VTIMEZONE
TZID:Europe/Paris
X-LIC-LOCATION:Europe/Paris
BEGIN:DAYLIGHT
DTSTART:20260329T030000
TZOFFSETFROM:+0100
TZOFFSETTO:+0200
TZNAME:CEST
END:DAYLIGHT
END:VTIMEZONE
END:VCALENDAR