BEGIN:VCALENDAR
VERSION:2.0
PRODID:-//wp-events-plugin.com//7.1.7//EN
TZID:Europe/Paris
X-WR-TIMEZONE:Europe/Paris
BEGIN:VEVENT
UID:0-527@ch-bretagne-atlantique.fr
DTSTART;TZID=Europe/Paris:20260506T000000
DTEND;TZID=Europe/Paris:20260506T000000
DTSTAMP:20260409T140839Z
URL:https://www.ch-bretagne-atlantique.fr/evenements/journee-dinformation-
 et-de-sensibilisation-a-lhygiene-des-mains-2/
SUMMARY:Journée d'information et de sensibilisation à l'hygiène des main
 s
DESCRIPTION:
ATTACH;FMTTYPE=image/jpeg:https://www.ch-bretagne-atlantique.fr/app/upload
 s/1/2026/04/women-wearing-white-shirts-that-press-the-gel-to-wash-hands-to
 -clean-hands_light.jpg
CATEGORIES:Information,Sensibilisation
LOCATION:Centre Hospitalier Bretagne Atlantique &#8211; site d&#8217;Auray\
 , 2 rue du Pratel 56400 AURAY\, France
X-APPLE-STRUCTURED-LOCATION;VALUE=URI;X-ADDRESS=2 rue du Pratel 56400 AURAY
 \, France;X-APPLE-RADIUS=100;X-TITLE=Centre Hospitalier Bretagne Atlantiqu
 e – site d’Auray:geo:0,0
END:VEVENT
BEGIN:VTIMEZONE
TZID:Europe/Paris
X-LIC-LOCATION:Europe/Paris
BEGIN:DAYLIGHT
DTSTART:20260329T030000
TZOFFSETFROM:+0100
TZOFFSETTO:+0200
TZNAME:CEST
END:DAYLIGHT
END:VTIMEZONE
END:VCALENDAR