BEGIN:VCALENDAR
VERSION:2.0
PRODID:-//wp-events-plugin.com//7.1.7//EN
TZID:Europe/Paris
X-WR-TIMEZONE:Europe/Paris
BEGIN:VEVENT
UID:0-424@ch-bretagne-atlantique.fr
DTSTART;TZID=Europe/Paris:20260512T090000
DTEND;TZID=Europe/Paris:20260512T170000
DTSTAMP:20260409T115645Z
URL:https://www.ch-bretagne-atlantique.fr/evenements/journee-de-depistage-
 des-maladies-renales-et-du-diabete/
SUMMARY:Journée de dépistage des maladies rénales
DESCRIPTION:
ATTACH;FMTTYPE=image/jpeg:https://www.ch-bretagne-atlantique.fr/app/upload
 s/1/2026/03/dr-avec-tablette-hologramme-rein-Freepik-scaled.jpg
CATEGORIES:Information,Sensibilisation
LOCATION:Centre Hospitalier Bretagne Atlantique &#8211; site de Vannes\, 20
  Boulevard Maurice Guillaudot 56000 VANNES\, France
X-APPLE-STRUCTURED-LOCATION;VALUE=URI;X-ADDRESS=20 Boulevard Maurice Guilla
 udot 56000 VANNES\, France;X-APPLE-RADIUS=100;X-TITLE=Centre Hospitalier B
 retagne Atlantique – site de Vannes:geo:0,0
END:VEVENT
BEGIN:VTIMEZONE
TZID:Europe/Paris
X-LIC-LOCATION:Europe/Paris
BEGIN:DAYLIGHT
DTSTART:20260329T030000
TZOFFSETFROM:+0100
TZOFFSETTO:+0200
TZNAME:CEST
END:DAYLIGHT
END:VTIMEZONE
END:VCALENDAR