BEGIN:VCALENDAR
VERSION:2.0
PRODID:-//wp-events-plugin.com//7.1.7//EN
TZID:Europe/Paris
X-WR-TIMEZONE:Europe/Paris
BEGIN:VEVENT
UID:0-528@ch-bretagne-atlantique.fr
DTSTART;TZID=Europe/Paris;VALUE=DATE:20260504
DTEND;TZID=Europe/Paris;VALUE=DATE:20260530
DTSTAMP:20260410T095359Z
URL:https://www.ch-bretagne-atlantique.fr/evenements/exposition-effets-spe
 ciaux-association-limage-nolfeenne/
SUMMARY:Exposition : "Effets spéciaux"
DESCRIPTION:L'association L'image nolféenne présente : "Effets spéciaux"
 \, une exposition de photos soit directement obtenues à la prise de vue\
 , soit après post-traitement par des logiciels spécialisés.\nCette expo
 sition peut être visitée de façon "classique" en regardant chaque photo
 \, en détaillant ses différents éléments\, et essayant de deviner la t
 echnique utilisée.\nMais elle a été construite pour être regardée aut
 rement\, elle raconte une...&nbsp\;des histoires.\nUne histoire que vous p
 ourrez inventer en suivant vos sensations et en faisant appel à votre ima
 ginaire.
ATTACH;FMTTYPE=image/jpeg:https://www.ch-bretagne-atlantique.fr/app/upload
 s/2024/06/close-up-woman-holding-retro-photo-camera-Freepik.jpg
CATEGORIES:Exposition
LOCATION:Centre Hospitalier Bretagne Atlantique &#8211; site de Vannes\, 20
  Boulevard Maurice Guillaudot 56000 VANNES\, France
X-APPLE-STRUCTURED-LOCATION;VALUE=URI;X-ADDRESS=20 Boulevard Maurice Guilla
 udot 56000 VANNES\, France;X-APPLE-RADIUS=100;X-TITLE=Centre Hospitalier B
 retagne Atlantique – site de Vannes:geo:0,0
END:VEVENT
BEGIN:VTIMEZONE
TZID:Europe/Paris
X-LIC-LOCATION:Europe/Paris
BEGIN:DAYLIGHT
DTSTART:20260329T030000
TZOFFSETFROM:+0100
TZOFFSETTO:+0200
TZNAME:CEST
END:DAYLIGHT
END:VTIMEZONE
END:VCALENDAR